Workbook

Sheet Simulador
A2: Selecionar Fundo | B2: NIKOS DEBÊNTURES FI INFRA RF CP LP | F2: *Incluir inputs nas células em laranja
A3: CNPJ | B3: =VLOOKUP($B$2,Fundos!$A$1:$E$7,2,0) -> 24.552.346/0001-60 | F3: *Selecionar o fundo na célula azul
A4: Taxa Global | B4: =VLOOKUP($B$2,Fundos!$A$1:$E$7,3,0) -> 0.009
A5: Taxa Perf. | B5: =VLOOKUP($B$2,Fundos!$A$1:$E$7,4,0) -> 0.2
A6: Indexador | B6: =VLOOKUP($B$2,Fundos!$A$1:$E$7,5,0) -> IMA-G
A8: Rentabilidade do fundo acima do indexador | B8: 0.12
A10: Investimento | B10: 250000
C13: GESTOR | E13: Distribuidor | G13: Administrador | I13: Taxa Total
A14: Taxas | B14: Rateio | C14: % do PL | D14: R$ | E14: % do PL | F14: R$ | G14: % do PL | H14: R$ | I14: % do PL | J14: $$
A15: Simulação | B15: 0.1925 | C15: =$B$4-E15-G15 -> 0.0066675 | D15: =$B$10*C15 -> 1666.875 | E15: =$B$4*B15 -> 0.0017325 | F15: =E15*$B$10 -> 433.125 | G15: =VLOOKUP(B2,Fundos!A1:F7,6,) -> 0.0006 | H15: =$B$10*G15 -> 150 | I15: =$C$15+$E$15+$G$15 -> 0.009 | J15: =$D$15+$F$15+$H$15 -> 2250
C17: GESTOR | E17: Distribuidor | G17: Administrador | I17: Taxa Total
A18: Tx Performance | B18: Rateio | C18: % do PL | D18: R$ | E18: % do PL | F18: R$ | G18: 0 | H18: 0 | I18: % do PL | J18: $$
A19: Simulação | B19: 0.2 | C19: =(100%-B19)*(B5*B8) -> 0.0192 | D19: =C19*$B$10 -> 4800 | E19: =B19*(B5*B8) -> 0.0048 | F19: =E19*$B$10 -> 1200 | G19: 0 | H19: 0 | I19: =$E$19+$C$19 -> 0.024 | J19: =$F$19+$D$19 -> 6000
C21: GESTOR | E21: Distribuidor | G21: Administrador | I21: Taxa Total
A22: Taxa Total | C22: % do PL | D22: R$ | E22: % do PL | F22: $$ | G22: Fixo | H22: R$ | I22: % do PL | J22: $$
A23: Simulação | C23: =C15+C19 -> 0.0258675 | D23: =D15+D19 -> 6466.875 | E23: =E19+E15 -> 0.0065325 | F23: =F19+F15 -> 1633.125 | G23: =G15 -> 0.0006 | H23: =H15 -> 150 | I23: =$I$19+$I$15 -> 0.033 | J23: =$J$19+$J$15 -> 8250

Sheet Fundos
A1: Fundo | B1: CNPJ | C1: Taxa adm | D1: Taxa performance | E1: Benchmark | F1: Adm fiduciário
A2: NIKOS DEBÊNTURES FI INFRA RF CP LP | B2: 24.552.346/0001-60 | C2: 0.009 | D2: 0.2 | E2: IMA-G | F2: 0.0006
A3: NIKOS DI PLUS REF DI FIRF CP LP | B3: 51.197.110/0001-26 | C3: 0.005 | D3: 0.1 | E3: CDI | F3: 0.0006
A4: NIKOS POTENCIAL FIA | B4: 13.966.586/0001-95 | C4: 0.02 | D4: 0.2 | E4: IBOV | F4: 0.0006
A5: MERCADO PAGO NIKOS BALANCEADO FIC FIM CP | B5: 46.610.198/0001-26 | C5: 0.01 | D5: 0.2 | E5: CDI | F5: 0.0006
A6: MERCADO PAGO NIKOS FI INFRA RF | B6: 54.252.360/0001-00 | C6: 0.008 | D6: 0.2 | E6: CDI | F6: 0.0006
A7: NIKOS MULTI CRED FIC FIDC RL | B7: 36.014.016/0001-09 | C7: 0.007 | D7: 0.2 | E7: CDI | F7: 0.0006
A8: MERCADO PAGO NIKOS SEGURANÇA FI RF | B8: 46.610.180/0001-24 | C8: 0.005 | D8: 0 | E8: CDI | F8: 0.0006
A9: NIKOS MERCADO PAGO DINÂMICO FIF RF | B9: 61.154.471/0001-49 | C9: 0.0085 | D9: 0.15 | E9: CDI | F9: 0.0006
